BEGIN:VCALENDAR
VERSION:2.0
PRODID:-//Dan Wyand, PT &amp; Associates - ECPv4.9.14//NONSGML v1.0//EN
CALSCALE:GREGORIAN
METHOD:PUBLISH
X-WR-CALNAME:Dan Wyand, PT &amp; Associates
X-ORIGINAL-URL:https://danwyandpt.com
X-WR-CALDESC:Events for Dan Wyand, PT &amp; Associates
BEGIN:VTIMEZONE
TZID:UTC
BEGIN:STANDARD
TZOFFSETFROM:+0000
TZOFFSETTO:+0000
TZNAME:UTC
DTSTART:20190101T000000
END:STANDARD
END:VTIMEZONE
BEGIN:VEVENT
DTSTART;VALUE=DATE:20191128
DTEND;VALUE=DATE:20191129
DTSTAMP:20260425T103522
CREATED:20190528T183459Z
LAST-MODIFIED:20190528T183459Z
UID:617-1574899200-1574985599@danwyandpt.com
SUMMARY:Thanksgiving Day - Offices closed
DESCRIPTION:Clinics closed in observance of Thanksgiving \n
URL:https://danwyandpt.com/event/thanksgiving-day-offices-closed/
END:VEVENT
END:VCALENDAR