BEGIN:VCALENDAR
VERSION:2.0
PRODID:-//Dan Wyand, PT &amp; Associates - ECPv4.9.14//NONSGML v1.0//EN
CALSCALE:GREGORIAN
METHOD:PUBLISH
X-WR-CALNAME:Dan Wyand, PT &amp; Associates
X-ORIGINAL-URL:https://danwyandpt.com
X-WR-CALDESC:Events for Dan Wyand, PT &amp; Associates
BEGIN:VTIMEZONE
TZID:UTC
BEGIN:STANDARD
TZOFFSETFROM:+0000
TZOFFSETTO:+0000
TZNAME:UTC
DTSTART:20190101T000000
END:STANDARD
END:VTIMEZONE
BEGIN:VEVENT
DTSTART;TZID=UTC:20190919T133000
DTEND;TZID=UTC:20190919T153000
DTSTAMP:20260425T151421
CREATED:20190912T182641Z
LAST-MODIFIED:20190912T182641Z
UID:858-1568899800-1568907000@danwyandpt.com
SUMMARY:Balance class
DESCRIPTION:NEK Council on Aging presents Better Balance and Fall Prevention! \nSara Stinson\, PT\, DPT & Michael Matteis\, PT\, DPT from Dan Wyand\, PT & Associates will be there to test balance and gait\, educate about balance\, and offer direction on ways to improve! \nJoin them and members of the NEK Council on Aging September 19\, 2019 from 1:30 – 3:30 p.m. at the St. Johnsbury House. \nCall to reserve a time:  Karen Budde  741-0431 \n
URL:https://danwyandpt.com/event/balance-class/
LOCATION:St. Johnsbury House\, 1207 Main Street\, St. Johnsbury\, VT\, 05819\, United States
END:VEVENT
END:VCALENDAR