BEGIN:VCALENDAR
VERSION:2.0
PRODID:-//Dan Wyand, PT &amp; Associates - ECPv4.9.14//NONSGML v1.0//EN
CALSCALE:GREGORIAN
METHOD:PUBLISH
X-WR-CALNAME:Dan Wyand, PT &amp; Associates
X-ORIGINAL-URL:https://danwyandpt.com
X-WR-CALDESC:Events for Dan Wyand, PT &amp; Associates
BEGIN:VTIMEZONE
TZID:UTC
BEGIN:STANDARD
TZOFFSETFROM:+0000
TZOFFSETTO:+0000
TZNAME:UTC
DTSTART:20190101T000000
END:STANDARD
END:VTIMEZONE
BEGIN:VEVENT
DTSTART;TZID=UTC:20190611T160000
DTEND;TZID=UTC:20190611T170000
DTSTAMP:20260425T192406
CREATED:20190524T154922Z
LAST-MODIFIED:20190528T150552Z
UID:313-1560268800-1560272400@danwyandpt.com
SUMMARY:Total Joint Pre-Operative Class
DESCRIPTION:Dan Wheeler\, PT\, DPT educates patients on all aspects of the surgical process including pre and post-surgical expectations and preparedness.  Leave the class with a better understanding of the process and with an educational packet that helps you prepare your home for your return. FREE \nClass is offered the second Tuesday of each month. Please call the St. Johnsbury clinic to register. 802.748.3722 \n
URL:https://danwyandpt.com/event/total-joint-pre-operative-class/2019-06-11/
LOCATION:St. Johnsbury Clinic\, 97 Sherman Drive\, Suite 2\, Danville\, VT\, 05828\, United States
ORGANIZER;CN="Dan%20Wyand%2C%20PT%20%26%20Associates":MAILTO:pt@nvrh.org
END:VEVENT
END:VCALENDAR